BEGIN:VCALENDAR
VERSION:2.0
PRODID:-//wp-events-plugin.com//7.2.3.1//EN
TZID:Africa/Nairobi
X-WR-TIMEZONE:Africa/Nairobi
BEGIN:VEVENT
UID:503@mck.or.ke
DTSTART;TZID=Africa/Nairobi:20260217T190000
DTEND;TZID=Africa/Nairobi:20260217T213000
DTSTAMP:20260214T171801Z
URL:https://www.mck.or.ke/events/mck-social-slideshow-2/
SUMMARY:MCK Social & Slideshow
DESCRIPTION:\n\nSea to Summit Challenge presentation by Patrick Scheel.
CATEGORIES:Slideshow
LOCATION:The Chocolate Room\, Rhapta Road\, Nairobi\, Kenya
GEO:-1.264677;36.791111
X-APPLE-STRUCTURED-LOCATION;VALUE=URI;X-ADDRESS=Rhapta Road\, Nairobi\, Ken
 ya;X-APPLE-RADIUS=100;X-TITLE=The Chocolate Room:geo:-1.264677,36.791111
END:VEVENT
BEGIN:VTIMEZONE
TZID:Africa/Nairobi
X-LIC-LOCATION:Africa/Nairobi
BEGIN:STANDARD
DTSTART:20250217T190000
TZOFFSETFROM:+0300
TZOFFSETTO:+0300
TZNAME:EAT
END:STANDARD
END:VTIMEZONE
END:VCALENDAR